BEGIN:VCALENDAR
VERSION:2.0
PRODID:-//Clyfford Still Museum//NONSGML v1.0//EN
CALSCALE:GREGORIAN
BEGIN:VTIMEZONE
TZID:America/Denver
LAST-MODIFIED:20260421T141628Z
BEGIN:STANDARD
DTSTART:20260101T000000
TZOFFSETFROM:-0600
TZOFFSETTO:-0600
TZNAME:MDT
END:STANDARD
END:VTIMEZONE
BEGIN:VEVENT
UID:9fc469fc7722cabd71328976809faba2@clyffordstillmuseum.org
DTSTAMP:20260421T141628Z
DTSTART;TZID=America/Denver:20260801T090000
DTEND;TZID=America/Denver:20260801T100000
SUMMARY:STILLness: Meditation in the Galleries
DESCRIPTION:
LOCATION:Clyfford Still Museum
URL:https://clyffordstillmuseum.org/events/meditation-8-1/
TRANSP:OPAQUE
END:VEVENT
END:VCALENDAR
