BEGIN:VCALENDAR
VERSION:2.0
PRODID:-//Clyfford Still Museum//NONSGML v1.0//EN
CALSCALE:GREGORIAN
BEGIN:VTIMEZONE
TZID:America/Denver
LAST-MODIFIED:20260423T085204Z
BEGIN:STANDARD
DTSTART:20260101T000000
TZOFFSETFROM:-0600
TZOFFSETTO:-0600
TZNAME:MDT
END:STANDARD
END:VTIMEZONE
BEGIN:VEVENT
UID:01af5b493023a21f2aec281a65d45b22@clyffordstillmuseum.org
DTSTAMP:20260423T085204Z
DTSTART;TZID=America/Denver:20260710T150000
DTEND;TZID=America/Denver:20260710T163000
SUMMARY:Still Uncovered Tour
DESCRIPTION:
LOCATION:Clyfford Still Museum
URL:https://clyffordstillmuseum.org/events/still-uncovered-tour-july/
TRANSP:OPAQUE
END:VEVENT
END:VCALENDAR
