BEGIN:VCALENDAR
VERSION:2.0
PRODID:-//Clyfford Still Museum//NONSGML v1.0//EN
CALSCALE:GREGORIAN
BEGIN:VTIMEZONE
TZID:America/Denver
LAST-MODIFIED:20260423T102131Z
BEGIN:STANDARD
DTSTART:20260101T000000
TZOFFSETFROM:-0600
TZOFFSETTO:-0600
TZNAME:MDT
END:STANDARD
END:VTIMEZONE
BEGIN:VEVENT
UID:40ac83e793ae4630de5db1339d5620fb@clyffordstillmuseum.org
DTSTAMP:20260423T102131Z
DTSTART;TZID=America/Denver:20260828T170000
DTEND;TZID=America/Denver:20260828T184500
SUMMARY:Summer Music Series
DESCRIPTION:
LOCATION:Clyfford Still Museum
URL:https://clyffordstillmuseum.org/events/summer-music-series-8-28-26/
TRANSP:OPAQUE
END:VEVENT
END:VCALENDAR
